BEGIN:VCALENDAR
VERSION:2.0
PRODID:-//eventon.com NONSGML v1.0//EN
CALSCALE:GREGORIAN
METHOD:PUBLISH
BEGIN:VEVENT
UID:69e7000f86109
DTSTAMP:20260421T054151
DTSTART:20250613
DTEND:20250615
TZID:Europe/Paris
LOCATION:
SUMMARY:Vannes : Groupe d'entraide
DESCRIPTION: Groupe d&rsquo;entraide à Vannes\nhttps://www.association-spama.com/events/vannes-groupe-dentraide/
URL:https://www.association-spama.com/events/vannes-groupe-dentraide/
END:VEVENT
END:VCALENDAR