BEGIN:VCALENDAR
VERSION:2.0
PRODID:-//eventon.com NONSGML v1.0//EN
CALSCALE:GREGORIAN
METHOD:PUBLISH
BEGIN:VEVENT
UID:69e9fab99bb34
DTSTAMP:20260423T115553
DTSTART:20250627
DTEND:20250629
TZID:Europe/Paris
LOCATION:
SUMMARY:St Malo : Groupe d'entraide
DESCRIPTION: Groupe d&rsquo;entraide à St Malo\nhttps://www.association-spama.com/events/st-malo-groupe-dentraide-2/
URL:https://www.association-spama.com/events/st-malo-groupe-dentraide-2/
END:VEVENT
END:VCALENDAR