BEGIN:VCALENDAR
VERSION:2.0
PRODID:-//eventon.com NONSGML v1.0//EN
CALSCALE:GREGORIAN
METHOD:PUBLISH
BEGIN:VEVENT
UID:69e6f221187e1
DTSTAMP:20260421T044225
DTSTART:20250114
DTEND:20250116
TZID:Europe/Paris
LOCATION:Paris 
SUMMARY:Cours au DU de Soins Palliatifs - Université d'Amiens
DESCRIPTION: Cours au DU de Soins Palliatifs &#8211; Université d&rsquo;Amiens\nhttps://www.association-spama.com/events/cours-au-du-de-soins-palliatifs-universite-damiens/
URL:https://www.association-spama.com/events/cours-au-du-de-soins-palliatifs-universite-damiens/
END:VEVENT
END:VCALENDAR