BEGIN:VCALENDAR
VERSION:2.0
PRODID:-//eventon.com NONSGML v1.0//EN
CALSCALE:GREGORIAN
METHOD:PUBLISH
BEGIN:VEVENT
UID:69ec3979922f0
DTSTAMP:20260425T044809
DTSTART:20241124
DTEND:20241126
TZID:Europe/Paris
LOCATION:Paris 
SUMMARY:Intervention sur le deuil périnatal auprès de l'institut de formation d'Auxiliaires de puériculture de la Croix Rouge de Rennes (IFAP)
DESCRIPTION: Intervention sur le deuil périnatal auprès de l&rsquo;institut de formation d&rsquo;Auxiliaires de puériculture de la Croix Rouge de Rennes (IFAP)\nhttps://www.association-spama.com/events/intervention-sur-le-deuil-perinatal-aupres-de-linstitut-de-formation-dauxiliaires-de-puericulture-de-la-croix-rouge-de-rennes-ifap/
URL:https://www.association-spama.com/events/intervention-sur-le-deuil-perinatal-aupres-de-linstitut-de-formation-dauxiliaires-de-puericulture-de-la-croix-rouge-de-rennes-ifap/
END:VEVENT
END:VCALENDAR