BEGIN:VCALENDAR
VERSION:2.0
PRODID:-//eventon.com NONSGML v1.0//EN
CALSCALE:GREGORIAN
METHOD:PUBLISH
BEGIN:VEVENT
UID:69e64b92397ad
DTSTAMP:20260420T165146
DTSTART:20240405
DTEND:20240407
TZID:Europe/Paris
LOCATION:
SUMMARY:Groupe d'entraide à Lyon\,  Rennes\,  Nevers\,  Valenciennes\,  Nantes et Luxembourg
DESCRIPTION: Groupe d&rsquo;entraide à Lyon\,  Rennes\,  Nevers\,  Valenciennes\,  Nantes et Luxembourg\nhttps://www.association-spama.com/events/groupe-dentraide-a-lyon-rennes-nevers-valenciennes-nantes-et-luxembourg/
URL:https://www.association-spama.com/events/groupe-dentraide-a-lyon-rennes-nevers-valenciennes-nantes-et-luxembourg/
END:VEVENT
END:VCALENDAR