BEGIN:VCALENDAR
VERSION:2.0
PRODID:-//eventon.com NONSGML v1.0//EN
CALSCALE:GREGORIAN
METHOD:PUBLISH
BEGIN:VEVENT
UID:69ea71dae8b77
DTSTAMP:20260423T202410
DTSTART:20250129
DTEND:20250201
TZID:Europe/Paris
LOCATION:Paris 
SUMMARY:Formation au Deuil Périnatal auprès des Hôpitaux Civils de Lyon
DESCRIPTION: Formation au Deuil Périnatal auprès des Hôpitaux Civils de Lyon\nhttps://www.association-spama.com/events/formation-au-deuil-perinatal-aupres-des-hopitaux-civils-de-lyon/
URL:https://www.association-spama.com/events/formation-au-deuil-perinatal-aupres-des-hopitaux-civils-de-lyon/
END:VEVENT
END:VCALENDAR