BEGIN:VCALENDAR
VERSION:2.0
PRODID:-//eventon.com NONSGML v1.0//EN
CALSCALE:GREGORIAN
METHOD:PUBLISH
BEGIN:VEVENT
UID:69e5c33aa2995
DTSTAMP:20260420T071002
DTSTART:20240401
DTEND:20240403
TZID:Europe/Paris
LOCATION:
SUMMARY:NOUVEAU : Groupe d’entraide sur zoom pour les grands-parents
DESCRIPTION: Groupe d’entraide sur zoom de 20H à 21H30 Contacter Edith sur antennes@association-spama.com pour rv téléphonique et inscription\nhttps://www.association-spama.com/events/nouveau-groupe-dentraide-sur-zoom-pour-les-grands-parents/
URL:https://www.association-spama.com/events/nouveau-groupe-dentraide-sur-zoom-pour-les-grands-parents/
END:VEVENT
END:VCALENDAR