BEGIN:VCALENDAR
VERSION:2.0
PRODID:-//eventon.com NONSGML v1.0//EN
CALSCALE:GREGORIAN
METHOD:PUBLISH
BEGIN:VEVENT
UID:69e5005108612
DTSTAMP:20260419T171825
DTSTART:20231014
DTEND:20231016
TZID:Europe/Paris
LOCATION:
SUMMARY:Projection du film "Et je choisis de vivre" à Aix
DESCRIPTION: Projection du film « Et je choisis de vivre » à la clinique l&rsquo;Etoile d&rsquo;Aix en Provence Stand Spama\nhttps://www.association-spama.com/events/projection-du-film-et-je-choisis-de-vivre-a-aix/
URL:https://www.association-spama.com/events/projection-du-film-et-je-choisis-de-vivre-a-aix/
END:VEVENT
END:VCALENDAR