BEGIN:VCALENDAR
VERSION:2.0
PRODID:-//eventon.com NONSGML v1.0//EN
CALSCALE:GREGORIAN
METHOD:PUBLISH
BEGIN:VEVENT
UID:69e4f3af3136b
DTSTAMP:20260419T162431
DTSTART:20230922
DTEND:20230924
TZID:Europe/Paris
LOCATION:
SUMMARY:Groupes d’entraide à Thonon à Paris et à Rennes
DESCRIPTION: Groupe d’entraide à Thonon\,  à Paris\,  à Rennes &nbsp;\nhttps://www.association-spama.com/events/groupes-dentraide-a-thonon-a-paris-et-a-rennes/
URL:https://www.association-spama.com/events/groupes-dentraide-a-thonon-a-paris-et-a-rennes/
END:VEVENT
END:VCALENDAR