BEGIN:VCALENDAR
VERSION:2.0
PRODID:-//eventon.com NONSGML v1.0//EN
CALSCALE:GREGORIAN
METHOD:PUBLISH
BEGIN:VEVENT
UID:69e664e298f1e
DTSTAMP:20260420T183946
DTSTART:20221216
DTEND:20221218
TZID:Europe/Paris
LOCATION:
SUMMARY:Groupe d’entraide à Angers\,  Saint-Etienne\,  Aix et à Luxembourg
DESCRIPTION: Groupe d’entraide à Saint-Etienne\,   Luxembourg \,  Angers (10H à 12H)\,  Aix (9H30 à11H30 à Venelles) &nbsp;\nhttps://www.association-spama.com/events/groupe-dentraide-a-angers-saint-etienne-aix-et-a-luxembourg/
URL:https://www.association-spama.com/events/groupe-dentraide-a-angers-saint-etienne-aix-et-a-luxembourg/
END:VEVENT
END:VCALENDAR