BEGIN:VCALENDAR
VERSION:2.0
PRODID:-//eventon.com NONSGML v1.0//EN
CALSCALE:GREGORIAN
METHOD:PUBLISH
BEGIN:VEVENT
UID:69e674d40ab28
DTSTAMP:20260420T194748
DTSTART:20221123
DTEND:20221125
TZID:Europe/Paris
LOCATION:
SUMMARY:Forum Parentalité Montluçon
DESCRIPTION: Forum parentalité à Dessertines de 14H à 17H L&rsquo;équipe Spama de Montluçon sera présente\nhttps://www.association-spama.com/events/forum-parentalite-montlucon/
URL:https://www.association-spama.com/events/forum-parentalite-montlucon/
END:VEVENT
END:VCALENDAR