BEGIN:VCALENDAR
VERSION:2.0
PRODID:-//eventon.com NONSGML v1.0//EN
CALSCALE:GREGORIAN
METHOD:PUBLISH
BEGIN:VEVENT
UID:69e8b5c9075e2
DTSTAMP:20260422T124929
DTSTART:20221125
DTEND:20221127
TZID:Europe/Paris
LOCATION:
SUMMARY:Groupe d’entraide à Lille\,  Lyon\,  Angers\,  Rennes et Nevers
DESCRIPTION: Groupe d’entraide à Lille\,  Rennes\,  Lyon (10h &#8211; 12h)\,  Angers (10H à 12H)\,  Nevers\nhttps://www.association-spama.com/events/groupe-dentraide-a-lille-lyon-angers-rennes-et-nevers/
URL:https://www.association-spama.com/events/groupe-dentraide-a-lille-lyon-angers-rennes-et-nevers/
END:VEVENT
END:VCALENDAR