BEGIN:VCALENDAR
VERSION:2.0
PRODID:-//eventon.com NONSGML v1.0//EN
CALSCALE:GREGORIAN
METHOD:PUBLISH
BEGIN:VEVENT
UID:69e66471bdf71
DTSTAMP:20260420T183753
DTSTART:20221113
DTEND:20221115
TZID:Europe/Paris
LOCATION:
SUMMARY:Groupe d’entraide sur zoom
DESCRIPTION: Groupe d’entraide sur zoom pour parents isolés ou à l&rsquo;étranger de 20h30 à 22H30\nhttps://www.association-spama.com/events/groupe-dentraide-sur-zoom-11/
URL:https://www.association-spama.com/events/groupe-dentraide-sur-zoom-11/
END:VEVENT
END:VCALENDAR