BEGIN:VCALENDAR
VERSION:2.0
PRODID:-//eventon.com NONSGML v1.0//EN
CALSCALE:GREGORIAN
METHOD:PUBLISH
BEGIN:VEVENT
UID:69e845a9221e3
DTSTAMP:20260422T045105
DTSTART:20220407
DTEND:20220409
TZID:Europe/Paris
LOCATION:
SUMMARY:Sensibilisation au deuil périnatal et aux soins palliatifs en maternité\,  Ecole de Sages-Femmes\,  Hopital Foch\,  Paris
DESCRIPTION: Sensibilisation au deuil périnatal et aux soins palliatifs en maternité\,  Ecole de Sages-Femmes\,  Hopital Foch\,  Paris\nhttps://www.association-spama.com/events/sensibilisation-au-deuil-perinatal-et-aux-soins-palliatifs-en-maternite-ecole-de-sages-femmes-hopital-foch-paris/
URL:https://www.association-spama.com/events/sensibilisation-au-deuil-perinatal-et-aux-soins-palliatifs-en-maternite-ecole-de-sages-femmes-hopital-foch-paris/
END:VEVENT
END:VCALENDAR