BEGIN:VCALENDAR
VERSION:2.0
PRODID:-//eventon.com NONSGML v1.0//EN
CALSCALE:GREGORIAN
METHOD:PUBLISH
BEGIN:VEVENT
UID:69e6e9d1eef46
DTSTAMP:20260421T040657
DTSTART:20220311
DTEND:20220313
TZID:Europe/Paris
LOCATION:Paris 
SUMMARY:Formation continue Bénévoles SPAMA à Paris
DESCRIPTION: Formation continue Bénévoles SPAMA à Paris\nhttps://www.association-spama.com/events/formation-continue-benevoles-spama-a-paris/
URL:https://www.association-spama.com/events/formation-continue-benevoles-spama-a-paris/
END:VEVENT
END:VCALENDAR