BEGIN:VCALENDAR
VERSION:2.0
PRODID:-//eventon.com NONSGML v1.0//EN
CALSCALE:GREGORIAN
METHOD:PUBLISH
BEGIN:VEVENT
UID:69e9098b0de9c
DTSTAMP:20260422T184651
DTSTART:20220610T220000Z
DTEND:20220611T210000Z
TZID:Europe/Paris
LOCATION:
SUMMARY:Groupe d'entraide à Luxembourg et Toulouse
DESCRIPTION: Groupe d&rsquo;entraide à Luxembourg et Toulouse\nhttps://www.association-spama.com/events/groupe-dentraide-a-luxembourg-et-toulouse/
URL:https://www.association-spama.com/events/groupe-dentraide-a-luxembourg-et-toulouse/
END:VEVENT
END:VCALENDAR