BEGIN:VCALENDAR
VERSION:2.0
PRODID:-//eventon.com NONSGML v1.0//EN
CALSCALE:GREGORIAN
METHOD:PUBLISH
BEGIN:VEVENT
UID:69e79b8b56d05
DTSTAMP:20260421T164515
DTSTART:20210423T220000Z
DTEND:20210424T215900Z
TZID:Europe/Paris
LOCATION:Nantes 
SUMMARY:Groupe d'entraide à Toulouse
DESCRIPTION: Groupe d&rsquo;entraide à Toulouse &#8211; 14h\nhttps://www.association-spama.com/events/groupe-dentraide-a-toulouse/
URL:https://www.association-spama.com/events/groupe-dentraide-a-toulouse/
END:VEVENT
END:VCALENDAR