BEGIN:VCALENDAR
VERSION:2.0
PRODID:-//eventon.com NONSGML v1.0//EN
CALSCALE:GREGORIAN
METHOD:PUBLISH
BEGIN:VEVENT
UID:69eac3be542a9
DTSTAMP:20260424T021334
DTSTART:20210402
DTEND:20210404
TZID:Europe/Paris
LOCATION:Nantes 
SUMMARY:Groupe d'entraide à Rennes et Valenciennes
DESCRIPTION: Groupe d&rsquo;entraide à Rennes\nhttps://www.association-spama.com/events/groupe-dentraide-a-rennes-et-valenciennes/
URL:https://www.association-spama.com/events/groupe-dentraide-a-rennes-et-valenciennes/
END:VEVENT
END:VCALENDAR