BEGIN:VCALENDAR
VERSION:2.0
PRODID:-//eventon.com NONSGML v1.0//EN
CALSCALE:GREGORIAN
METHOD:PUBLISH
BEGIN:VEVENT
UID:69eb833a643e3
DTSTAMP:20260424T155034
DTSTART:20200131
DTEND:20200202
TZID:Europe/Paris
LOCATION:
SUMMARY:Groupe d'entraide à Lille
DESCRIPTION: Groupe d&rsquo;entraide à Lille\nhttps://www.association-spama.com/events/groupe-dentraide-a-lille-2/
URL:https://www.association-spama.com/events/groupe-dentraide-a-lille-2/
END:VEVENT
END:VCALENDAR