BEGIN:VCALENDAR
VERSION:2.0
PRODID:-//eventon.com NONSGML v1.0//EN
CALSCALE:GREGORIAN
METHOD:PUBLISH
BEGIN:VEVENT
UID:69ed155f77414
DTSTAMP:20260425T202623
DTSTART:20201014
DTEND:20201016
TZID:Europe/Paris
LOCATION:
SUMMARY:Soirée Cinéma : « Et je choisis de vivre… » à Angers
DESCRIPTION: Soirée Cinéma : « Et je choisis de vivre… » à Angers\nhttps://www.association-spama.com/events/soiree-cinema-et-je-choisis-de-vivre-a-angers/
URL:https://www.association-spama.com/events/soiree-cinema-et-je-choisis-de-vivre-a-angers/
END:VEVENT
END:VCALENDAR