BEGIN:VCALENDAR
VERSION:2.0
PRODID:-//eventon.com NONSGML v1.0//EN
CALSCALE:GREGORIAN
METHOD:PUBLISH
BEGIN:VEVENT
UID:69e869d6105ad
DTSTAMP:20260422T072526
DTSTART:20210329
DTEND:20210401
TZID:Europe/Paris
LOCATION:Paris 
SUMMARY:Formation Deuil périnatal à Paris
DESCRIPTION: Formation Deuil périnatal à Paris\nhttps://www.association-spama.com/events/formation-deuil-perinatal-2/
URL:https://www.association-spama.com/events/formation-deuil-perinatal-2/
END:VEVENT
END:VCALENDAR